BEGIN:VCALENDAR
VERSION:2.0
PRODID:icalendar-ruby
CALSCALE:GREGORIAN
METHOD:PUBLISH
BEGIN:VEVENT
DTSTAMP:20260419T173201Z
UID:e3a2ccf9-ae7e-43f1-9916-bd9a756ce2de
DTSTART;VALUE=DATE:20171201
DTEND;VALUE=DATE:20171201
DESCRIPTION:Mag Ridge BMX Park
LOCATION:344 Oldtown Crossing  Ridgeland MS 39157 USA
SUMMARY:Standard Single Single
URL:/site/bmx_races/359795
END:VEVENT
END:VCALENDAR
