BEGIN:VCALENDAR
VERSION:2.0
PRODID:icalendar-ruby
CALSCALE:GREGORIAN
METHOD:PUBLISH
BEGIN:VEVENT
DTSTAMP:20260425T234658Z
UID:59a9170a-3063-4494-8718-14030f3e08f9
DTSTART;VALUE=DATE:20180615
DTEND;VALUE=DATE:20180615
DESCRIPTION:Noonday BMX
LOCATION:547 Shallowford Rd Ne  Marietta GA 30144 USA
SUMMARY:Standard Single Single
URL:/site/bmx_races/360191
END:VEVENT
END:VCALENDAR
