BEGIN:VCALENDAR
VERSION:2.0
PRODID:icalendar-ruby
CALSCALE:GREGORIAN
METHOD:PUBLISH
BEGIN:VEVENT
DTSTAMP:20260424T090905Z
UID:e9e1f5ed-57bf-4323-99d3-88441d1027c5
DTSTART;VALUE=DATE:20181010
DTEND;VALUE=DATE:20181010
DESCRIPTION:Nellis BMX
LOCATION:4949 E Cheyenne Ave  Las Vegas NV 89115 USA
SUMMARY:Standard Single Single
URL:/site/bmx_races/360307
END:VEVENT
END:VCALENDAR
