BEGIN:VCALENDAR
VERSION:2.0
PRODID:icalendar-ruby
CALSCALE:GREGORIAN
METHOD:PUBLISH
BEGIN:VEVENT
DTSTAMP:20260421T022111Z
UID:140165ab-42e3-4d4d-8e79-ae515e598bc5
DTSTART;VALUE=DATE:20180131
DTEND;VALUE=DATE:20180131
DESCRIPTION:Daytona BMX
LOCATION:1670 Strickland Range Rd  Holly Hill FL 32117 USA
SUMMARY:Practice
URL:/site/bmx_races/360626
END:VEVENT
END:VCALENDAR
