BEGIN:VCALENDAR
VERSION:2.0
PRODID:icalendar-ruby
CALSCALE:GREGORIAN
METHOD:PUBLISH
BEGIN:VEVENT
DTSTAMP:20260420T192917Z
UID:ac3448a8-e1bf-4d2a-acab-038e5d5754a1
DTSTART;VALUE=DATE:20180507
DTEND;VALUE=DATE:20180507
DESCRIPTION:Daytona BMX
LOCATION:1670 Strickland Range Rd  Holly Hill FL 32117 USA
SUMMARY:Practice
URL:/site/bmx_races/360681
END:VEVENT
END:VCALENDAR
