BEGIN:VCALENDAR
VERSION:2.0
PRODID:icalendar-ruby
CALSCALE:GREGORIAN
METHOD:PUBLISH
BEGIN:VEVENT
DTSTAMP:20260420T174445Z
UID:c209ce14-74aa-48a1-8032-a5fe425f07a0
DTSTART;VALUE=DATE:20180618
DTEND;VALUE=DATE:20180618
DESCRIPTION:Daytona BMX
LOCATION:1670 Strickland Range Rd  Holly Hill FL 32117 USA
SUMMARY:Practice
URL:/site/bmx_races/360705
END:VEVENT
END:VCALENDAR
