BEGIN:VCALENDAR
VERSION:2.0
PRODID:icalendar-ruby
CALSCALE:GREGORIAN
METHOD:PUBLISH
BEGIN:VEVENT
DTSTAMP:20260420T174523Z
UID:2bf0a933-ec05-4aa9-a2d7-c225b2668156
DTSTART;VALUE=DATE:20180608
DTEND;VALUE=DATE:20180608
DESCRIPTION:Daytona BMX
LOCATION:1670 Strickland Range Rd  Holly Hill FL 32117 USA
SUMMARY:Local Race Single
URL:/site/bmx_races/360981
END:VEVENT
END:VCALENDAR
