BEGIN:VCALENDAR
VERSION:2.0
PRODID:icalendar-ruby
CALSCALE:GREGORIAN
METHOD:PUBLISH
BEGIN:VEVENT
DTSTAMP:20260425T234659Z
UID:87a63738-5514-4463-934e-e5b0df6da91f
DTSTART;VALUE=DATE:20180512
DTEND;VALUE=DATE:20180512
DESCRIPTION:Nepean BMX
LOCATION:93 Houlahan St  Ottawa ON K2J3Y7 CAN
SUMMARY:Standard Single Single
URL:/site/bmx_races/361426
END:VEVENT
END:VCALENDAR
