BEGIN:VCALENDAR
VERSION:2.0
PRODID:icalendar-ruby
CALSCALE:GREGORIAN
METHOD:PUBLISH
BEGIN:VEVENT
DTSTAMP:20260424T232307Z
UID:8f028f2c-7236-4ede-b003-4d9550db5bfc
DTSTART;VALUE=DATE:20180724
DTEND;VALUE=DATE:20180724
DESCRIPTION:Westmoreland BMX
LOCATION:200 Park Road  Apollo PA 15613 USA
SUMMARY:Standard Single Single
URL:/site/bmx_races/361940
END:VEVENT
END:VCALENDAR
