BEGIN:VCALENDAR
VERSION:2.0
PRODID:icalendar-ruby
CALSCALE:GREGORIAN
METHOD:PUBLISH
BEGIN:VEVENT
DTSTAMP:20260420T211847Z
UID:52d8f646-41eb-4012-952c-43b558c92b1c
DTSTART;VALUE=DATE:20180406
DTEND;VALUE=DATE:20180406
DESCRIPTION:Elkhorn BMX
LOCATION:848 Elkhorn Blvd  Rio Linda CA 95673 USA
SUMMARY:Local Race Single
URL:/site/bmx_races/361986
END:VEVENT
END:VCALENDAR
