BEGIN:VCALENDAR
VERSION:2.0
PRODID:icalendar-ruby
CALSCALE:GREGORIAN
METHOD:PUBLISH
BEGIN:VEVENT
DTSTAMP:20260423T200253Z
UID:d34ce69c-fe5d-48f6-9e57-842cfe103b28
DTSTART;VALUE=DATE:20180727
DTEND;VALUE=DATE:20180727
DESCRIPTION:Molalla River BMX
LOCATION:920 Toliver Rd  Molalla OR 97038 USA
SUMMARY:Standard Single Single
URL:/site/bmx_races/362630
END:VEVENT
END:VCALENDAR
