BEGIN:VCALENDAR
VERSION:2.0
PRODID:icalendar-ruby
CALSCALE:GREGORIAN
METHOD:PUBLISH
BEGIN:VEVENT
DTSTAMP:20260424T011426Z
UID:950b8bb1-e5aa-4990-b59f-e1d28fe05dc4
DTSTART;VALUE=DATE:20180805
DTEND;VALUE=DATE:20180805
DESCRIPTION:Molalla River BMX
LOCATION:920 Toliver Rd  Molalla OR 97038 USA
SUMMARY:Race For Life Single
URL:/site/bmx_races/362681
END:VEVENT
END:VCALENDAR
