BEGIN:VCALENDAR
VERSION:2.0
PRODID:icalendar-ruby
CALSCALE:GREGORIAN
METHOD:PUBLISH
BEGIN:VEVENT
DTSTAMP:20260419T155438Z
UID:f11408f9-5ec3-4e4b-817f-34bf2e9c754c
DTSTART;VALUE=DATE:20181103
DTEND;VALUE=DATE:20181103
DESCRIPTION:Shelby Farms BMX
LOCATION:6435 Walnut Grove Rd  Memphis TN 38119 USA
SUMMARY:Standard Single Single
URL:/site/bmx_races/362735
END:VEVENT
END:VCALENDAR
