BEGIN:VCALENDAR
VERSION:2.0
PRODID:icalendar-ruby
CALSCALE:GREGORIAN
METHOD:PUBLISH
BEGIN:VEVENT
DTSTAMP:20260419T150732Z
UID:e55d8bb1-ab3e-4511-bf63-bf2e9f63312b
DTSTART;VALUE=DATE:20181029
DTEND;VALUE=DATE:20181029
DESCRIPTION:Bellflower BMX
LOCATION:9030 Somerset Blvd  Bellflower CA 90706 USA
SUMMARY:Standard Single Single
URL:/site/bmx_races/362878
END:VEVENT
END:VCALENDAR
