BEGIN:VCALENDAR
VERSION:2.0
PRODID:icalendar-ruby
CALSCALE:GREGORIAN
METHOD:PUBLISH
BEGIN:VEVENT
DTSTAMP:20260423T065459Z
UID:d34e4952-6aaa-463a-afa1-fa615e3be426
DTSTART;VALUE=DATE:20180429
DTEND;VALUE=DATE:20180429
DESCRIPTION:Central Wisconsin BMX
LOCATION:2220 E Riverview Expy\,  Wisconsin Rapids WI 54494 USA
SUMMARY:Standard Single Single
URL:/site/bmx_races/362962
END:VEVENT
END:VCALENDAR
