BEGIN:VCALENDAR
VERSION:2.0
PRODID:icalendar-ruby
CALSCALE:GREGORIAN
METHOD:PUBLISH
BEGIN:VEVENT
DTSTAMP:20260424T163348Z
UID:c9f9727b-c245-43b6-91e1-d9953c5c52b5
DTSTART;VALUE=DATE:20181108
DTEND;VALUE=DATE:20181108
DESCRIPTION:Fountain City BMX
LOCATION:David D. Whetstone Jr. Sports Complex     County Road 4 W Prattvil
 le AL 36066 USA
SUMMARY:Local Race Single
URL:/site/bmx_races/363940
END:VEVENT
END:VCALENDAR
