BEGIN:VCALENDAR
VERSION:2.0
PRODID:icalendar-ruby
CALSCALE:GREGORIAN
METHOD:PUBLISH
BEGIN:VEVENT
DTSTAMP:20260425T202256Z
UID:0fdf7a72-ad4f-4fdb-b9dd-fb06797d585d
DTSTART;VALUE=DATE:20180725
DTEND;VALUE=DATE:20180725
DESCRIPTION:Boulder BMX\, Inc
LOCATION:1799 Commons Way  Boulder City NV 89005 USA
SUMMARY:Practice
URL:/site/bmx_races/364239
END:VEVENT
END:VCALENDAR
