BEGIN:VCALENDAR
VERSION:2.0
PRODID:icalendar-ruby
CALSCALE:GREGORIAN
METHOD:PUBLISH
BEGIN:VEVENT
DTSTAMP:20260425T184850Z
UID:5ddb09f4-4c4b-4d9e-8522-321ca0da331f
DTSTART;VALUE=DATE:20180822
DTEND;VALUE=DATE:20180822
DESCRIPTION:Boulder BMX\, Inc
LOCATION:1799 Commons Way  Boulder City NV 89005 USA
SUMMARY:Practice
URL:/site/bmx_races/364243
END:VEVENT
END:VCALENDAR
