BEGIN:VCALENDAR
VERSION:2.0
PRODID:icalendar-ruby
CALSCALE:GREGORIAN
METHOD:PUBLISH
BEGIN:VEVENT
DTSTAMP:20260423T060925Z
UID:d96045e0-2a80-4a97-bd6d-ab2dcfee59ce
DTSTART;VALUE=DATE:20180616
DTEND;VALUE=DATE:20180616
DESCRIPTION:Winnebagoland BMX
LOCATION:4650 Jackson Street  Oshkosh WI 54901 USA
SUMMARY:Standard Single Single
URL:/site/bmx_races/364463
END:VEVENT
END:VCALENDAR
