BEGIN:VCALENDAR
VERSION:2.0
PRODID:icalendar-ruby
CALSCALE:GREGORIAN
METHOD:PUBLISH
BEGIN:VEVENT
DTSTAMP:20260424T013110Z
UID:fe902e3b-1f47-4f69-8fe2-9da5858e3ead
DTSTART;VALUE=DATE:20180406
DTEND;VALUE=DATE:20180406
DESCRIPTION:Blanchard Woods BMX
LOCATION:4600 Blanchard Woods Drive  Evans GA 30809 USA
SUMMARY:Practice
URL:/site/bmx_races/364549
END:VEVENT
END:VCALENDAR
