BEGIN:VCALENDAR
VERSION:2.0
PRODID:icalendar-ruby
CALSCALE:GREGORIAN
METHOD:PUBLISH
BEGIN:VEVENT
DTSTAMP:20260423T164732Z
UID:d6931256-2cba-47e1-b7f0-f695882f5a8b
DTSTART;VALUE=DATE:20181006
DTEND;VALUE=DATE:20181006
DESCRIPTION:Blanchard Woods BMX
LOCATION:4600 Blanchard Woods Drive  Evans GA 30809 USA
SUMMARY:Standard Single Single
URL:/site/bmx_races/364602
END:VEVENT
END:VCALENDAR
