BEGIN:VCALENDAR
VERSION:2.0
PRODID:icalendar-ruby
CALSCALE:GREGORIAN
METHOD:PUBLISH
BEGIN:VEVENT
DTSTAMP:20260423T232648Z
UID:187789f7-c783-4bc8-803a-d2cc084315c0
DTSTART;VALUE=DATE:20180522
DTEND;VALUE=DATE:20180522
DESCRIPTION:Spokane BMX
LOCATION:5701 N Assembly St  Spokane WA 99205 USA
SUMMARY:Practice
URL:/site/bmx_races/366493
END:VEVENT
END:VCALENDAR
