BEGIN:VCALENDAR
VERSION:2.0
PRODID:icalendar-ruby
CALSCALE:GREGORIAN
METHOD:PUBLISH
BEGIN:VEVENT
DTSTAMP:20260423T211550Z
UID:9f53b82c-ad6d-4fe9-8ea1-d4f30b6ef534
DTSTART;VALUE=DATE:20180703
DTEND;VALUE=DATE:20180703
DESCRIPTION:Spokane BMX
LOCATION:5701 N Assembly St  Spokane WA 99205 USA
SUMMARY:Practice
URL:/site/bmx_races/366499
END:VEVENT
END:VCALENDAR
