BEGIN:VCALENDAR
VERSION:2.0
PRODID:icalendar-ruby
CALSCALE:GREGORIAN
METHOD:PUBLISH
BEGIN:VEVENT
DTSTAMP:20260423T172901Z
UID:e5cc1c83-247c-4bfb-91b7-a1d13bd7edd9
DTSTART;VALUE=DATE:20180904
DTEND;VALUE=DATE:20180904
DESCRIPTION:Spokane BMX
LOCATION:5701 N Assembly St  Spokane WA 99205 USA
SUMMARY:Practice
URL:/site/bmx_races/366508
END:VEVENT
END:VCALENDAR
