BEGIN:VCALENDAR
VERSION:2.0
PRODID:icalendar-ruby
CALSCALE:GREGORIAN
METHOD:PUBLISH
BEGIN:VEVENT
DTSTAMP:20260423T172801Z
UID:45155019-8d2a-4720-8e81-19b0b77201ba
DTSTART;VALUE=DATE:20180929
DTEND;VALUE=DATE:20180929
DESCRIPTION:Spokane BMX
LOCATION:5701 N Assembly St  Spokane WA 99205 USA
SUMMARY:Standard Single Single
URL:/site/bmx_races/366538
END:VEVENT
END:VCALENDAR
