BEGIN:VCALENDAR
VERSION:2.0
PRODID:icalendar-ruby
CALSCALE:GREGORIAN
METHOD:PUBLISH
BEGIN:VEVENT
DTSTAMP:20260424T124547Z
UID:741d9e67-cb38-4148-b30e-b8c95030f9ce
DTSTART;VALUE=DATE:20180809
DTEND;VALUE=DATE:20180809
DESCRIPTION:Milton BMX - Track 2000 
LOCATION:Drumquin Park   Britania Road Milton ON L9T 7G6 CAN
SUMMARY:Standard Single Single
URL:/site/bmx_races/366681
END:VEVENT
END:VCALENDAR
