BEGIN:VCALENDAR
VERSION:2.0
PRODID:icalendar-ruby
CALSCALE:GREGORIAN
METHOD:PUBLISH
BEGIN:VEVENT
DTSTAMP:20260419T155437Z
UID:7d24cf23-ec76-4ccc-8a68-7799e8504d69
DTSTART;VALUE=DATE:20180908
DTEND;VALUE=DATE:20180908
DESCRIPTION:Waterford Oaks BMX
LOCATION:1702 Scott Lake Rd  Waterford MI 48328 USA
SUMMARY:Standard Single Single
URL:/site/bmx_races/367245
END:VEVENT
END:VCALENDAR
