BEGIN:VCALENDAR
VERSION:2.0
PRODID:icalendar-ruby
CALSCALE:GREGORIAN
METHOD:PUBLISH
BEGIN:VEVENT
DTSTAMP:20260423T170921Z
UID:8570beae-ec7b-43a6-82a0-e97719b2bb6e
DTSTART;VALUE=DATE:20180123
DTEND;VALUE=DATE:20180123
DESCRIPTION:Cargill Park BMX
LOCATION:2800 Cargill Drive  Shreveport LA 71108 USA
SUMMARY:Local Race Single
URL:/site/bmx_races/367663
END:VEVENT
END:VCALENDAR
