BEGIN:VCALENDAR
VERSION:2.0
PRODID:icalendar-ruby
CALSCALE:GREGORIAN
METHOD:PUBLISH
BEGIN:VEVENT
DTSTAMP:20260423T103616Z
UID:13219e1c-8d66-495b-bc29-ead58a193444
DTSTART;VALUE=DATE:20180512
DTEND;VALUE=DATE:20180512
DESCRIPTION:Cargill Park BMX
LOCATION:2800 Cargill Drive  Shreveport LA 71108 USA
SUMMARY:Local Race Single
URL:/site/bmx_races/367694
END:VEVENT
END:VCALENDAR
