BEGIN:VCALENDAR
VERSION:2.0
PRODID:icalendar-ruby
CALSCALE:GREGORIAN
METHOD:PUBLISH
BEGIN:VEVENT
DTSTAMP:20260423T072538Z
UID:084e41b3-2981-4820-9046-a76a85f44610
DTSTART;VALUE=DATE:20180602
DTEND;VALUE=DATE:20180602
DESCRIPTION:Cargill Park BMX
LOCATION:2800 Cargill Drive  Shreveport LA 71108 USA
SUMMARY:Standard Single Single
URL:/site/bmx_races/367700
END:VEVENT
END:VCALENDAR
