BEGIN:VCALENDAR
VERSION:2.0
PRODID:icalendar-ruby
CALSCALE:GREGORIAN
METHOD:PUBLISH
BEGIN:VEVENT
DTSTAMP:20260423T004314Z
UID:4e125e2a-1bab-452d-8987-03d818df3a28
DTSTART;VALUE=DATE:20181113
DTEND;VALUE=DATE:20181113
DESCRIPTION:Cargill Park BMX
LOCATION:2800 Cargill Drive  Shreveport LA 71108 USA
SUMMARY:Local Race Single
URL:/site/bmx_races/367747
END:VEVENT
END:VCALENDAR
