BEGIN:VCALENDAR
VERSION:2.0
PRODID:icalendar-ruby
CALSCALE:GREGORIAN
METHOD:PUBLISH
BEGIN:VEVENT
DTSTAMP:20260419T190435Z
UID:3cf05eab-f4c1-4893-b312-f62629895e3b
DTSTART;VALUE=DATE:20181118
DTEND;VALUE=DATE:20181118
DESCRIPTION:Santa Maria BMX
LOCATION:4040 Highway 101  Santa Maria CA 93455 USA
SUMMARY:Standard Single Single
URL:/site/bmx_races/368538
END:VEVENT
END:VCALENDAR
