BEGIN:VCALENDAR
VERSION:2.0
PRODID:icalendar-ruby
CALSCALE:GREGORIAN
METHOD:PUBLISH
BEGIN:VEVENT
DTSTAMP:20260421T035005Z
UID:3bfde544-f5d0-46ae-9a04-92be8b25b349
DTSTART;VALUE=DATE:20180228
DTEND;VALUE=DATE:20180228
DESCRIPTION:Sports Park BMX
LOCATION:6901 N Casa Grande Highway  Tucson AZ 85743 USA
SUMMARY:Local Race Single
URL:/site/bmx_races/368625
END:VEVENT
END:VCALENDAR
