BEGIN:VCALENDAR
VERSION:2.0
PRODID:icalendar-ruby
CALSCALE:GREGORIAN
METHOD:PUBLISH
BEGIN:VEVENT
DTSTAMP:20260420T211756Z
UID:73da18d0-0ab1-410d-8f9d-6a5be14dded3
DTSTART;VALUE=DATE:20180606
DTEND;VALUE=DATE:20180606
DESCRIPTION:Sports Park BMX
LOCATION:6901 N Casa Grande Highway  Tucson AZ 85743 USA
SUMMARY:Standard Single Single
URL:/site/bmx_races/368653
END:VEVENT
END:VCALENDAR
