BEGIN:VCALENDAR
VERSION:2.0
PRODID:icalendar-ruby
CALSCALE:GREGORIAN
METHOD:PUBLISH
BEGIN:VEVENT
DTSTAMP:20260420T161255Z
UID:f54a3f59-7918-476f-b4f3-75c1923993ab
DTSTART;VALUE=DATE:20181027
DTEND;VALUE=DATE:20181027
DESCRIPTION:Sports Park BMX
LOCATION:6901 N Casa Grande Highway  Tucson AZ 85743 USA
SUMMARY:Local Race Single
URL:/site/bmx_races/368694
END:VEVENT
END:VCALENDAR
