BEGIN:VCALENDAR
VERSION:2.0
PRODID:icalendar-ruby
CALSCALE:GREGORIAN
METHOD:PUBLISH
BEGIN:VEVENT
DTSTAMP:20260424T034825Z
UID:1dd6eb69-1697-450d-a27b-078b007111ea
DTSTART;VALUE=DATE:20130317
DTEND;VALUE=DATE:20130317
DESCRIPTION:Hampton BMX
LOCATION:901 E Littleback River Rd  Hampton VA 23669 USA
SUMMARY:State Race Double
URL:/site/bmx_races/36881
END:VEVENT
END:VCALENDAR
