BEGIN:VCALENDAR
VERSION:2.0
PRODID:icalendar-ruby
CALSCALE:GREGORIAN
METHOD:PUBLISH
BEGIN:VEVENT
DTSTAMP:20260423T023503Z
UID:a3de1598-f293-4f2c-a98f-af26f9f26f26
DTSTART;VALUE=DATE:20180722
DTEND;VALUE=DATE:20180722
DESCRIPTION:Grand Forks BMX
LOCATION:Kettle River Dr & 7th St  Grand Forks BC V0H1H0 CAN
SUMMARY:Standard Double Double
URL:/site/bmx_races/370033
END:VEVENT
END:VCALENDAR
