BEGIN:VCALENDAR
VERSION:2.0
PRODID:icalendar-ruby
CALSCALE:GREGORIAN
METHOD:PUBLISH
BEGIN:VEVENT
DTSTAMP:20260424T032411Z
UID:1e8cdf77-6262-45fe-9da1-e53351daad94
DTSTART;VALUE=DATE:20180320
DTEND;VALUE=DATE:20180320
DESCRIPTION:Goodyear BMX Raceway
LOCATION:15660 W Roeser Rd  Goodyear AZ 85338 USA
SUMMARY:Standard Single Single
URL:/site/bmx_races/370499
END:VEVENT
END:VCALENDAR
