BEGIN:VCALENDAR
VERSION:2.0
PRODID:icalendar-ruby
CALSCALE:GREGORIAN
METHOD:PUBLISH
BEGIN:VEVENT
DTSTAMP:20260421T060730Z
UID:b900052b-bd63-4e20-b588-8ec5bbf4229e
DTSTART;VALUE=DATE:20180128
DTEND;VALUE=DATE:20180128
DESCRIPTION:Redwood Empire BMX
LOCATION:201 Vance Ave  Samoa CA 95564 USA
SUMMARY:Local Race Single
URL:/site/bmx_races/370550
END:VEVENT
END:VCALENDAR
