BEGIN:VCALENDAR
VERSION:2.0
PRODID:icalendar-ruby
CALSCALE:GREGORIAN
METHOD:PUBLISH
BEGIN:VEVENT
DTSTAMP:20260421T041530Z
UID:79b98649-ce4e-4ca5-b965-f3233a18bcf3
DTSTART;VALUE=DATE:20180211
DTEND;VALUE=DATE:20180211
DESCRIPTION:Redwood Empire BMX
LOCATION:201 Vance Ave  Samoa CA 95564 USA
SUMMARY:Local Race Single
URL:/site/bmx_races/370556
END:VEVENT
END:VCALENDAR
