BEGIN:VCALENDAR
VERSION:2.0
PRODID:icalendar-ruby
CALSCALE:GREGORIAN
METHOD:PUBLISH
BEGIN:VEVENT
DTSTAMP:20260421T041331Z
UID:c3495489-7a16-4585-b16f-0112b1e3d0d2
DTSTART;VALUE=DATE:20180228
DTEND;VALUE=DATE:20180228
DESCRIPTION:Redwood Empire BMX
LOCATION:201 Vance Ave  Samoa CA 95564 USA
SUMMARY:Practice
URL:/site/bmx_races/370563
END:VEVENT
END:VCALENDAR
