BEGIN:VCALENDAR
VERSION:2.0
PRODID:icalendar-ruby
CALSCALE:GREGORIAN
METHOD:PUBLISH
BEGIN:VEVENT
DTSTAMP:20260420T094849Z
UID:8b26e259-a10c-4baf-bdfa-1e8cedeb60e5
DTSTART;VALUE=DATE:20181111
DTEND;VALUE=DATE:20181111
DESCRIPTION:Redwood Empire BMX
LOCATION:201 Vance Ave  Samoa CA 95564 USA
SUMMARY:Local Race Single
URL:/site/bmx_races/370670
END:VEVENT
END:VCALENDAR
