BEGIN:VCALENDAR
VERSION:2.0
PRODID:icalendar-ruby
CALSCALE:GREGORIAN
METHOD:PUBLISH
BEGIN:VEVENT
DTSTAMP:20260420T082143Z
UID:3a9801ce-ac3f-476c-a08c-58af9434d45b
DTSTART;VALUE=DATE:20181202
DTEND;VALUE=DATE:20181202
DESCRIPTION:Redwood Empire BMX
LOCATION:201 Vance Ave  Samoa CA 95564 USA
SUMMARY:Local Race Single
URL:/site/bmx_races/370679
END:VEVENT
END:VCALENDAR
