BEGIN:VCALENDAR
VERSION:2.0
PRODID:icalendar-ruby
CALSCALE:GREGORIAN
METHOD:PUBLISH
BEGIN:VEVENT
DTSTAMP:20260422T163001Z
UID:568327c7-1874-41fd-8d14-ddbbdad3574d
DTSTART;VALUE=DATE:20180525
DTEND;VALUE=DATE:20180525
DESCRIPTION:Tucson BMX
LOCATION:9245 E Irvington  Tucson AZ 85730 USA
SUMMARY:Standard Single Single
URL:/site/bmx_races/370731
END:VEVENT
END:VCALENDAR
