BEGIN:VCALENDAR
VERSION:2.0
PRODID:icalendar-ruby
CALSCALE:GREGORIAN
METHOD:PUBLISH
BEGIN:VEVENT
DTSTAMP:20260423T065521Z
UID:93a264d7-c592-4132-a1f9-c30b98d90338
DTSTART;VALUE=DATE:20180720
DTEND;VALUE=DATE:20180720
DESCRIPTION:Tucson BMX
LOCATION:9245 E Irvington  Tucson AZ 85730 USA
SUMMARY:Standard Single Single
URL:/site/bmx_races/370747
END:VEVENT
END:VCALENDAR
