BEGIN:VCALENDAR
VERSION:2.0
PRODID:icalendar-ruby
CALSCALE:GREGORIAN
METHOD:PUBLISH
BEGIN:VEVENT
DTSTAMP:20260423T082526Z
UID:73f76eed-787d-4c70-b747-4125821dd359
DTSTART;VALUE=DATE:20180907
DTEND;VALUE=DATE:20180907
DESCRIPTION:Tucson BMX
LOCATION:9245 E Irvington  Tucson AZ 85730 USA
SUMMARY:Standard Single Single
URL:/site/bmx_races/370761
END:VEVENT
END:VCALENDAR
