BEGIN:VCALENDAR
VERSION:2.0
PRODID:icalendar-ruby
CALSCALE:GREGORIAN
METHOD:PUBLISH
BEGIN:VEVENT
DTSTAMP:20260422T163003Z
UID:0d99c02d-d1b2-4b15-9e3f-ddff17d0bf39
DTSTART;VALUE=DATE:20181104
DTEND;VALUE=DATE:20181104
DESCRIPTION:Spreckels Park BMX
LOCATION:941 Spreckels Ave  Manteca CA 95336 USA
SUMMARY:Standard Single Single
URL:/site/bmx_races/371043
END:VEVENT
END:VCALENDAR
