BEGIN:VCALENDAR
VERSION:2.0
PRODID:icalendar-ruby
CALSCALE:GREGORIAN
METHOD:PUBLISH
BEGIN:VEVENT
DTSTAMP:20260422T121607Z
UID:a023054d-2e96-4425-8fef-79a9a1940d00
DTSTART;VALUE=DATE:20180725
DTEND;VALUE=DATE:20180725
DESCRIPTION:North Bay BMX
LOCATION:3291 Streblow Dr  Napa CA 94558 USA
SUMMARY:Standard Single Single
URL:/site/bmx_races/371270
END:VEVENT
END:VCALENDAR
