BEGIN:VCALENDAR
VERSION:2.0
PRODID:icalendar-ruby
CALSCALE:GREGORIAN
METHOD:PUBLISH
BEGIN:VEVENT
DTSTAMP:20260422T195603Z
UID:717e1fd4-5d5c-4d2c-9554-0d0be5809630
DTSTART;VALUE=DATE:20171220
DTEND;VALUE=DATE:20171220
DESCRIPTION:Peninsula Indoor BMX
LOCATION:5867 Dogwood Road Se  Port Orchard WA 98367 USA
SUMMARY:Practice
URL:/site/bmx_races/371442
END:VEVENT
END:VCALENDAR
