BEGIN:VCALENDAR
VERSION:2.0
PRODID:icalendar-ruby
CALSCALE:GREGORIAN
METHOD:PUBLISH
BEGIN:VEVENT
DTSTAMP:20260422T195601Z
UID:8b72a855-f15d-45ba-94dc-593238d26af2
DTSTART;VALUE=DATE:20171216
DTEND;VALUE=DATE:20171216
DESCRIPTION:Peninsula Indoor BMX
LOCATION:5867 Dogwood Road Se  Port Orchard WA 98367 USA
SUMMARY:Clinic
URL:/site/bmx_races/371568
END:VEVENT
END:VCALENDAR
